BEGIN:VCALENDAR
VERSION:2.0
PRODID:-//Estepark, Parque Comercial y de Ocio en Castellón - ECPv6.15.18//NONSGML v1.0//EN
CALSCALE:GREGORIAN
METHOD:PUBLISH
X-WR-CALNAME:Estepark, Parque Comercial y de Ocio en Castellón
X-ORIGINAL-URL:https://estepark.es
X-WR-CALDESC:Eventos para Estepark, Parque Comercial y de Ocio en Castellón
REFRESH-INTERVAL;VALUE=DURATION:PT1H
X-Robots-Tag:noindex
X-PUBLISHED-TTL:PT1H
BEGIN:VTIMEZONE
TZID:Europe/Madrid
BEGIN:DAYLIGHT
TZOFFSETFROM:+0100
TZOFFSETTO:+0200
TZNAME:CEST
DTSTART:20250330T010000
END:DAYLIGHT
BEGIN:STANDARD
TZOFFSETFROM:+0200
TZOFFSETTO:+0100
TZNAME:CET
DTSTART:20251026T010000
END:STANDARD
BEGIN:DAYLIGHT
TZOFFSETFROM:+0100
TZOFFSETTO:+0200
TZNAME:CEST
DTSTART:20260329T010000
END:DAYLIGHT
BEGIN:STANDARD
TZOFFSETFROM:+0200
TZOFFSETTO:+0100
TZNAME:CET
DTSTART:20261025T010000
END:STANDARD
BEGIN:DAYLIGHT
TZOFFSETFROM:+0100
TZOFFSETTO:+0200
TZNAME:CEST
DTSTART:20270328T010000
END:DAYLIGHT
BEGIN:STANDARD
TZOFFSETFROM:+0200
TZOFFSETTO:+0100
TZNAME:CET
DTSTART:20271031T010000
END:STANDARD
END:VTIMEZONE
BEGIN:VEVENT
DTSTART;TZID=Europe/Madrid:20260306T170000
DTEND;TZID=Europe/Madrid:20260306T200000
DTSTAMP:20260421T153531
CREATED:20260305T111310Z
LAST-MODIFIED:20260305T111310Z
UID:21961-1772816400-1772827200@estepark.es
SUMMARY:¡RECOGE TU PACK MAGDALENERO 2026 EN ESTEPARK!
DESCRIPTION:¿Eres castelloner@ y esteparker? ¡Estepark y sus grandes marcas regalan a sus clientes 100 packs magdaleneros! \n  \n📍 ¿Cómo conseguirlo? (¡Toma nota!)\nApunta bien la fecha porque esto vuela más rápido que los cohetes: \n\n\nDÍA: 6 de marzo. \n\n\nHORA: A partir de las 17:00h. \n\n\nDÓNDE: En llaollao\, Vertigo Bowling Park y Keasyfit. \n\n\nREQUISITO: Presenta un ticket de compra de esta semana de 10€ o más de cualquier establecimiento de Estepark. \n\n\n\n⚠️ ¡TEN EN CUENTA!\n\n\nPara mayores de 18 años. \n\n\nUno por persona: ¡Sed buenos compañeros de colla! \n\n\n¡Corre! Se reparten por orden de llegada y hasta que se acaben. Si pestañeas\, te quedas sin. \n\n\n🎒 ¿Qué lleva el Pack Magdalenero Estepark?\n\n\nSaquito exclusivo Estepark (ideal para llevar todas las fiestas). \n\n\nCinta y pulsera oficial (el uniforme reglamentario). \n\n\nPrograma de fiestas (para que no te pierdas ni un «vítol»). \n\nLlaveros de Todojuguete.\n\nBonos descuento de Keasyfit\, Vertigo Bowling Park o llaollao. \n\n\n¡Vente a merendar\, a comprar o a echar una partida de bolos y llévate el pack! 🥳💥 \n  \n  \n 
URL:https://estepark.es/evento/recoge-tu-pack-magdalenero-2026-en-estepark/
CATEGORIES:Sorteo/Concurso
END:VEVENT
BEGIN:VEVENT
DTSTART;TZID=Europe/Madrid:20260320T163000
DTEND;TZID=Europe/Madrid:20260320T203000
DTSTAMP:20260421T153531
CREATED:20260227T100857Z
LAST-MODIFIED:20260227T100857Z
UID:21957-1774024200-1774038600@estepark.es
SUMMARY:Donación de sangre
DESCRIPTION:
URL:https://estepark.es/evento/donacion-de-sangre-4/
CATEGORIES:Solidario
ATTACH;FMTTYPE=image/jpeg:https://estepark.es/wp-content/uploads/2026/02/donacion-sangre-20-MARZ.jpg
END:VEVENT
END:VCALENDAR