BEGIN:VCALENDAR
VERSION:2.0
PRODID:-//Estepark, Parque Comercial y de Ocio en Castellón - ECPv6.15.18//NONSGML v1.0//EN
CALSCALE:GREGORIAN
METHOD:PUBLISH
X-ORIGINAL-URL:https://estepark.es
X-WR-CALDESC:Eventos para Estepark, Parque Comercial y de Ocio en Castellón
REFRESH-INTERVAL;VALUE=DURATION:PT1H
X-Robots-Tag:noindex
X-PUBLISHED-TTL:PT1H
BEGIN:VTIMEZONE
TZID:Europe/Madrid
BEGIN:DAYLIGHT
TZOFFSETFROM:+0100
TZOFFSETTO:+0200
TZNAME:CEST
DTSTART:20240331T010000
END:DAYLIGHT
BEGIN:STANDARD
TZOFFSETFROM:+0200
TZOFFSETTO:+0100
TZNAME:CET
DTSTART:20241027T010000
END:STANDARD
BEGIN:DAYLIGHT
TZOFFSETFROM:+0100
TZOFFSETTO:+0200
TZNAME:CEST
DTSTART:20250330T010000
END:DAYLIGHT
BEGIN:STANDARD
TZOFFSETFROM:+0200
TZOFFSETTO:+0100
TZNAME:CET
DTSTART:20251026T010000
END:STANDARD
BEGIN:DAYLIGHT
TZOFFSETFROM:+0100
TZOFFSETTO:+0200
TZNAME:CEST
DTSTART:20260329T010000
END:DAYLIGHT
BEGIN:STANDARD
TZOFFSETFROM:+0200
TZOFFSETTO:+0100
TZNAME:CET
DTSTART:20261025T010000
END:STANDARD
END:VTIMEZONE
BEGIN:VEVENT
DTSTART;TZID=Europe/Madrid:20250131T080000
DTEND;TZID=Europe/Madrid:20250331T170000
DTSTAMP:20260423T165003
CREATED:20250128T130426Z
LAST-MODIFIED:20250529T100530Z
UID:20614-1738310400-1743440400@estepark.es
SUMMARY:IV CONCURSO DE DIBUJO INFANTIL MAGDALENA ESTEPARK
DESCRIPTION:Estepark invita a todos los niños de Castelló a participar en el IV Concurso de Dibujo Infantil Magdalena Estepark. ¡Una ocasión única para que los pequeños artistas muestren su creatividad y talento! \n🖌️ Entrega tu dibujo antes del 1 de marzo y entra en el concurso. Habrá premios para los tres dibujos más votados y obsequios para todos los participantes. \n🎨 Además\, todas las obras formarán parte de una exposición especial\, que podrás visitar en la pista de hielo Fun Ice (planta 1) del 10 al 31 de marzo. DONDE PODRÁS VOTAR LOS DIBUJOS. \n👉 EXPO: Del 10 al 31 de marzo en Fun Ice. \n  \n¿QUÉ DEBES HACER PARA PARTICIPAR?\n\nLa actividad de dibujo está abierta a niños de 4 a 12 años de toda la provincia\, que deben realizar un dibujo relacionado con las fiestas de la Magdalena.\n¡IMPORTANTE! Para el dibujo debe utilizarse un folio A4 y se debe incluir en la parte delantera el nombre completo del niño y\, en la parte trasera\, el nombre y el email de contacto o teléfono de alguno de los padres o tutor.\nUna vez realizado puede entregarse hasta el lunes 3 de marzo en la caja de los establecimientos de Estepark: Kidôm. The Jumper y Fun Ice.\nLos dibujos estarán expuestos en Fun ICE Estepark del 10 al 31 de marzo.\nLos 3 dibujos más votados se llevarán los premios. El 4 de abril contactaremos con los ganadores y publicaremos sus nombres en la web y redes sociales de Estepark.\nLos ganadores podrán recoger sus premios en Estepark. Si no reciben el correo electrónico los padres o tutores de los ganadores pueden contactar a Estepark en info@estepark.es hasta el 14 de abril.\n\nPREMIOS\nLos 3 dibujos más votados se llevarán: \nUn juguete de Todojuguete o Gifi\, una entrada de 1 día de patinaje ilimitado en la pista de hielo Fun Ice\, una lámpara quitamiedos de Leroy Merlin y una entrada de Kidôm. \n  \nEXPOSICIÓN Y VOTACIONES\n\nLos dibujos estarán expuestos en Fun Ice\, en la planta 1 de Estepark.\nPodrán visitarse y votarse del 1o al 31 de marzo.\nPara votar tan solo tienes que rellenar la papeleta que encontrarás en la barra de Mamma Luisa – Fun Ice desde el 10 al 31 de marzo e introducirla en la urna que estará al lado.\nLos 3 dibujos más votados se llevarán premios.\n\n  \nCONDICIONES DEL CONCURSO \n\nCada persona (nombres + email) podrá votar un dibujo\, las papeletas duplicadas no serán contabilizadas.\nSe seleccionarán 3 ganadores (los 3 más votados en orden de votos)  y 1 suplente(el 4ª más votado).\nEstepark contactará con los padres/tutores de los ganadores a través del email o teléfono facilitado por los mismos en la parte trasera del dibujo participante.\nLos ganadores contarán con una semana natural para responder a Estepark y conocer cómo recoger sus premios. O contactar con Estepark en info@estepark.es. Si tras este periodo no han dado señales de vida\, Estepark entregará el premio al suplente.\nLos nombres de los ganadores se comunicarán en la web y redes sociales de Estepark.\nLos premios no se podrán cambiar por otros o por cantidades en metálico.\nEstepark se reserva el derecho de declarar nulo al ganador si este incumple cualquier norma del juego.\nEstepark se reserva el derecho de cancelar o aplazar el sorteo por causas de fuerza mayor.\n\n  \nODS: CIUDADES Y COMUNIDADES SOSTENIBLES
URL:https://estepark.es/evento/iv-concurso-dibujo-infantil-magdalena-estepark/
CATEGORIES:Infantil,Sorteo/Concurso
ATTACH;FMTTYPE=image/jpeg:https://estepark.es/wp-content/uploads/2025/01/slide-estepark-dibujo-web-scaled.jpg
END:VEVENT
BEGIN:VEVENT
DTSTART;TZID=Europe/Madrid:20250313T163000
DTEND;TZID=Europe/Madrid:20250313T203000
DTSTAMP:20260423T165003
CREATED:20250311T101159Z
LAST-MODIFIED:20250529T100518Z
UID:20812-1741883400-1741897800@estepark.es
SUMMARY:Donación de sangre
DESCRIPTION:  \nODS: CIUDADES Y COMUNIDADES SOSTENIBLES
URL:https://estepark.es/evento/donacion-de-sangre/
CATEGORIES:Solidario
ATTACH;FMTTYPE=image/jpeg:https://estepark.es/wp-content/uploads/2025/03/DONACION-SANGRE-MARZO2025.jpg
END:VEVENT
BEGIN:VEVENT
DTSTART;TZID=Europe/Madrid:20250314T183000
DTEND;TZID=Europe/Madrid:20250314T193000
DTSTAMP:20260423T165003
CREATED:20250311T100856Z
LAST-MODIFIED:20250311T100856Z
UID:20806-1741977000-1741980600@estepark.es
SUMMARY:Clase abierta de zumba
DESCRIPTION:
URL:https://estepark.es/evento/clase-abierta-de-zumba-6/
CATEGORIES:Deporte,Entretenimiento
END:VEVENT
BEGIN:VEVENT
DTSTART;TZID=Europe/Madrid:20250320T170000
DTEND;TZID=Europe/Madrid:20250320T210000
DTSTAMP:20260423T165003
CREATED:20250312T165007Z
LAST-MODIFIED:20250529T100510Z
UID:20804-1742490000-1742504400@estepark.es
SUMMARY:CONSIGUE TU PACK MAGDALENERO ESTEPARK 2025
DESCRIPTION:El sentiment de Magdalena está presente en Estepark un año más. ¿Eres castelloner@ y esteparker? ¡Estepark y sus grandes marcas regalan a sus clientes 100 packs magdaleneros! \n¡Sin sorteos! \nPACK MAGDALENERO\n¿Lo quieres? \n\n𝟏 – Ven a buscar tu Pack a la pista de hielo Fun Ice (en la planta 1 de Estepark) el jueves 20 de marzo a partir de las 17h. \n\n\n𝟐 – Enseña uno o varios tickets de compra de establecimientos de Estepark con fecha del 17 al 20 de marzo y un mínimo de 10€ para poder retirarlo.\n\n\n𝟑 – ¡Ya tienes tu pack!* (Uno por ticket y persona\, por orden de llegada y hasta fin de existencias)\n\nEl pack contiene una mochila de Estepark súper cómoda para la romería\, rollet\, el programa de fiestas\, cinta y pulsera\, un bono 2×1 en Fun Ice y caramelos. \n  \nODS: CIUDADES Y COMUNIDADES SOSTENIBLES
URL:https://estepark.es/evento/consigue-tu-pack-magdalenero-estepark-2025/
CATEGORIES:Sorteo/Concurso
ATTACH;FMTTYPE=image/jpeg:https://estepark.es/wp-content/uploads/2025/03/slide-pack-magdalenero-scaled.jpg
END:VEVENT
BEGIN:VEVENT
DTSTART;TZID=Europe/Madrid:20250321T183000
DTEND;TZID=Europe/Madrid:20250321T193000
DTSTAMP:20260423T165003
CREATED:20250311T101025Z
LAST-MODIFIED:20250529T100502Z
UID:20809-1742581800-1742585400@estepark.es
SUMMARY:Clase abierta de zumba
DESCRIPTION:ODS: CIUDADES Y COMUNIDADES SOSTENIBLES
URL:https://estepark.es/evento/clase-abierta-de-zumba-7/
CATEGORIES:Deporte,Entretenimiento
ATTACH;FMTTYPE=image/jpeg:https://estepark.es/wp-content/uploads/2025/03/WhatsApp-Image-2025-03-10-at-14.05.31.jpeg
END:VEVENT
END:VCALENDAR