BEGIN:VCALENDAR
VERSION:2.0
PRODID:-//Estepark, Parque Comercial y de Ocio en Castellón - ECPv6.15.18//NONSGML v1.0//EN
CALSCALE:GREGORIAN
METHOD:PUBLISH
X-WR-CALNAME:Estepark, Parque Comercial y de Ocio en Castellón
X-ORIGINAL-URL:https://estepark.es
X-WR-CALDESC:Eventos para Estepark, Parque Comercial y de Ocio en Castellón
REFRESH-INTERVAL;VALUE=DURATION:PT1H
X-Robots-Tag:noindex
X-PUBLISHED-TTL:PT1H
BEGIN:VTIMEZONE
TZID:Europe/Madrid
BEGIN:DAYLIGHT
TZOFFSETFROM:+0100
TZOFFSETTO:+0200
TZNAME:CEST
DTSTART:20230326T010000
END:DAYLIGHT
BEGIN:STANDARD
TZOFFSETFROM:+0200
TZOFFSETTO:+0100
TZNAME:CET
DTSTART:20231029T010000
END:STANDARD
BEGIN:DAYLIGHT
TZOFFSETFROM:+0100
TZOFFSETTO:+0200
TZNAME:CEST
DTSTART:20240331T010000
END:DAYLIGHT
BEGIN:STANDARD
TZOFFSETFROM:+0200
TZOFFSETTO:+0100
TZNAME:CET
DTSTART:20241027T010000
END:STANDARD
BEGIN:DAYLIGHT
TZOFFSETFROM:+0100
TZOFFSETTO:+0200
TZNAME:CEST
DTSTART:20250330T010000
END:DAYLIGHT
BEGIN:STANDARD
TZOFFSETFROM:+0200
TZOFFSETTO:+0100
TZNAME:CET
DTSTART:20251026T010000
END:STANDARD
BEGIN:DAYLIGHT
TZOFFSETFROM:+0100
TZOFFSETTO:+0200
TZNAME:CEST
DTSTART:20260329T010000
END:DAYLIGHT
BEGIN:STANDARD
TZOFFSETFROM:+0200
TZOFFSETTO:+0100
TZNAME:CET
DTSTART:20261025T010000
END:STANDARD
END:VTIMEZONE
BEGIN:VEVENT
DTSTART;VALUE=DATE:20241211
DTEND;VALUE=DATE:20250210
DTSTAMP:20260423T135459
CREATED:20241211T170614Z
LAST-MODIFIED:20250206T105417Z
UID:20466-1733875200-1739145599@estepark.es
SUMMARY:GANADORES FIESTA PEQUERADIO ENCENDIDO DE LUCES EN ESTEPARK
DESCRIPTION:¡Venir a Estepark tiene premio! \nEstos son los ganadores y los premios de los invitados a la Fiesta de Pequeradio del Encendido de Luces de Navidad en Estepark. \n  \n¿Qué debes hacer para saber si tienes premio? \nSi viniste a la fiesta del 30 de noviembre y guardaste tu invitación\, como te indicamos\, puedes revisar si estás en la lista de ganadores. \nComprueba si el número de referencia de tu invitación coincide con los números del listado. \nLISTADO DE PREMIADOS: Sortea2 – Resultados del sorteo “Regalos Fiesta Encendido de Luces Pequeradio en Estepark” del 11/12/2024 \n  \nPACK CON Todojuguete antifaz para Carnaval + Vinnela Park 10% descuento + llaollao Estepark 10% descuento + Pista de hielo Fun Ice entrada 2×1 + Día gratis de entrenamiento en Keasyfit Estepark \n\nPuesto 1: 2X05-GLK9-6CC\nPuesto 2: 2X0D-G9LP-SMG\nPuesto 3: 2X08-D8C4-JPL\nPuesto 4: 2X07-4VM5-B1T\nPuesto 5: 2X0M-P5XD-P2R\nPuesto 6: 2X0D-GJJC-1BM\nPuesto 7: 2X0F-G2TB-7QQ\nPuesto 8: 2X07-74P5-GVT\nPuesto 9: 2X05-CMRW-0XZ\nPuesto 10: 2X08-MW8Z-S7K\nPuesto 11: 2X15-3DQV-MFH\nPuesto 12: 2X0N-37H2-JLZ\nPuesto 13: 2X0H-P62Q-2J6\nPuesto 14: 2X0C-D092-W01\nPuesto 15: 2X08-GVB1-D9F\nPuesto 16: 2X0C-WM9Z-0NK\nPuesto 17: 2X15-4SNC-MW5\nPuesto 18: 2X06-VTSN-B54\nPuesto 19: 2X13-5NV1-GHB\nPuesto 20: 2X0J-86GT-7CS\nPuesto 21: 2X07-9FXZ-KH3\nPuesto 22: 2X05-BKSR-G6X\nPuesto 23: 2X05-LJS5-682\nPuesto 24: 2X05-KKHG-H26\n\n\nPuesto 25: 2X05-HJD9-WR7\nPuesto 26: 2X05-F47X-K6M\nPuesto 27: 2X08-1KFT-M72\nPuesto 28: 2X0B-R3QM-R54\nPuesto 29: 2X09-NP42-96F\nPuesto 30: 2X05-DFXR-3GB\nPuesto 31: 2X05-KQ5C-L88\nPuesto 32: 2X09-13B2-3XK\n\n  \nPACK CON Regalo sorpresa de Leroy Merlin + Todojuguete antifaz para Carnaval + Vinnela Park 10% descuento + llaollao 10% descuento + Pista de hielo Fun Ice entrada 2×1 + El Salero Estepark croissant gratis + Kidom o The Jumper 10% descuento a elegir. \n\nPuesto 33: 2X0C-SJ5C-8GR\nPuesto 34: 2X09-2FMQ-P6Z\nPuesto 35: 2X05-H4SP-7G7\nPuesto 36: 2X0G-JXZ3-67T\nPuesto 37: 2X08-DKTB-2B9\nPuesto 38: 2X0D-BFB5-78R\nPuesto 39: 2X0F-3FDL-M14\nPuesto 40: 2X0C-BMJ5-929\nPuesto 41: 2X0F-7SH2-GFX\nPuesto 42: 2X0L-ZPWZ-5JR\nPuesto 43: 2X05-B5V3-GSV\nPuesto 44: 2X07-BFB0-D7Q\nPuesto 45: 2X0C-583G-7W3\nPuesto 46: 2X08-D465-MD4\nPuesto 47: 2X05-FDFG-H1G\nPuesto 48: 2X06-W4QJ-VZT\nPuesto 49: 2X08-3KZV-988\nPuesto 50: 2X15-8FZ5-786\nPuesto 51: 2X0C-B11H-Z0B\nPuesto 52: 2X0D-HP9K-K4F\n\n  \nPACK CON Menú hamburguesa doble KFC Estepark gratis + Todojuguete antifaz para Carnaval + Vinnela Park 10% descuento + llaollao 10% descuento + Pista de hielo Fun Ice entrada 2×1 + KeasyFit Estepark 1 díade entrenamiento gratis + El Salero Estepark croissant gratis. \n\nPuesto 53: 2X0F-XDQK-9F3\nPuesto 54: 2X0Z-4BRX-492\n\n  \nSUPLENTES \n\nPuesto 55: 2X05-H8BD-1XR\nPuesto 56: 2X0D-N4XN-L9T\nPuesto 57: 2X0K-3JLH-JRJ\nPuesto 58: 2X09-CFD7-8ZL\n\n  \n¿Cómo puedes recoger tus premios? \nPuedes pasar por las oficinas de Estepark a partir del jueves 9 de enero de 2025 y hasta el 20 del mismo mes\, de lunes a viernes y de 9:30h a 14h. \nSi no has venido a recogerlo tu premio pasará a uno de los suplentes\, que podrá recogerlo desde el 21 al 26 de enero. \nLas oficinas se encuentran en la planta 1\, llamando al timbre de la puerta izquierda que encontrarás al final del pasillo que hay junto a 100 Montaditos. \n¡Trae tu invitación en tu móvil o impresa! \n  \n¿Qué validez tienen los premios y cómo se utilizan? \nEn las oficinas te entregaremos todos tus regalos: premios y bonos. Los bonos para disfrutar en cada establecimiento podrás utilizarlos desde que los recojas hasta el 9 de febrero de 2025 mostrando el bono en cada local de Estepark. \n  \nCONDICIONES \nPremios en establecimientos de Estepark: \n\n10% en llaollao Estepark (para consumir desde el 15 de enero hasta el 9 de febrero de 2025)\nKFC: 2 menús para dos personas con hamburguesa mediana a elegir (para consumir desde el 15 de enero hasta el 9 de febrero de 2025)\nEl Salero: Croissants con tu consumición a partir de 1\,5€ (desde el 15 de enero hasta el 9 de febrero de 2025)\nKidôm o The Jumper: 10% en la entrada\, excepto restauración y calcetines. (para consumir desde el 15 de enero hasta el 9 de febrero de 2025)\nFun Ice: entradas 2×1 a la pista de hielo de Estepark. (Consumir desde el 15 de enero hasta el 9 de febrero de 2025)\nVinnela Park en Estepark: 10% descuento en el menú de lunes a domingo (a consumir desde el 15 de enero hasta el 9 de febrero de 2025)\nKeasyfit: bonos de un día de fitness en Keasyfit Estepark (a consumir desde el 15 de enero hasta el 9 de febrero de 2025)\n\nLos participantes deberán cumplir las condiciones de este artículo. \nEl sorteo se ha realizado aleatoriamente a través del sistema SORTEA2. \nEl premio se recogerá en Estepark o se disfrutará en los establecimientos estipulados. \n  \nRESPONSABILIDAD DE LA EMPRESA ORGANIZADORA \nEn el caso de que el promotor o cualquier entidad que esté ligada profesionalmente al presente concurso\, detecte cualquier conducta fraudulenta de alguno de los participantes\, lo podrán excluir de su participación en el presente sorteo. \nEl promotor se reserva el derecho de acortar\, prorrogar\, modificar o cancelar este concurso si concurrieran circunstancias excepcionales que impidieran su realización\, comunicando dichas circunstancias de manera que se evite cualquier perjuicio para los participantes en la misma. \nEl promotor del concurso no será responsable de los retrasos\, pérdidas o deterioros por causas que no le sean imputables. \nEl premio no puede modificarse por otro ni ser solicitado en metálico.
URL:https://estepark.es/evento/ganadores-fiesta-pequeradio-encendido-de-luces-en-estepark/
CATEGORIES:Sorteo/Concurso
ATTACH;FMTTYPE=image/jpeg:https://estepark.es/wp-content/uploads/2024/12/SORTEO-PEQUERADIO-ESTEPARK.jpg
END:VEVENT
BEGIN:VEVENT
DTSTART;TZID=Europe/Madrid:20250131T080000
DTEND;TZID=Europe/Madrid:20250331T170000
DTSTAMP:20260423T135459
CREATED:20250128T130426Z
LAST-MODIFIED:20250529T100530Z
UID:20614-1738310400-1743440400@estepark.es
SUMMARY:IV CONCURSO DE DIBUJO INFANTIL MAGDALENA ESTEPARK
DESCRIPTION:Estepark invita a todos los niños de Castelló a participar en el IV Concurso de Dibujo Infantil Magdalena Estepark. ¡Una ocasión única para que los pequeños artistas muestren su creatividad y talento! \n🖌️ Entrega tu dibujo antes del 1 de marzo y entra en el concurso. Habrá premios para los tres dibujos más votados y obsequios para todos los participantes. \n🎨 Además\, todas las obras formarán parte de una exposición especial\, que podrás visitar en la pista de hielo Fun Ice (planta 1) del 10 al 31 de marzo. DONDE PODRÁS VOTAR LOS DIBUJOS. \n👉 EXPO: Del 10 al 31 de marzo en Fun Ice. \n  \n¿QUÉ DEBES HACER PARA PARTICIPAR?\n\nLa actividad de dibujo está abierta a niños de 4 a 12 años de toda la provincia\, que deben realizar un dibujo relacionado con las fiestas de la Magdalena.\n¡IMPORTANTE! Para el dibujo debe utilizarse un folio A4 y se debe incluir en la parte delantera el nombre completo del niño y\, en la parte trasera\, el nombre y el email de contacto o teléfono de alguno de los padres o tutor.\nUna vez realizado puede entregarse hasta el lunes 3 de marzo en la caja de los establecimientos de Estepark: Kidôm. The Jumper y Fun Ice.\nLos dibujos estarán expuestos en Fun ICE Estepark del 10 al 31 de marzo.\nLos 3 dibujos más votados se llevarán los premios. El 4 de abril contactaremos con los ganadores y publicaremos sus nombres en la web y redes sociales de Estepark.\nLos ganadores podrán recoger sus premios en Estepark. Si no reciben el correo electrónico los padres o tutores de los ganadores pueden contactar a Estepark en info@estepark.es hasta el 14 de abril.\n\nPREMIOS\nLos 3 dibujos más votados se llevarán: \nUn juguete de Todojuguete o Gifi\, una entrada de 1 día de patinaje ilimitado en la pista de hielo Fun Ice\, una lámpara quitamiedos de Leroy Merlin y una entrada de Kidôm. \n  \nEXPOSICIÓN Y VOTACIONES\n\nLos dibujos estarán expuestos en Fun Ice\, en la planta 1 de Estepark.\nPodrán visitarse y votarse del 1o al 31 de marzo.\nPara votar tan solo tienes que rellenar la papeleta que encontrarás en la barra de Mamma Luisa – Fun Ice desde el 10 al 31 de marzo e introducirla en la urna que estará al lado.\nLos 3 dibujos más votados se llevarán premios.\n\n  \nCONDICIONES DEL CONCURSO \n\nCada persona (nombres + email) podrá votar un dibujo\, las papeletas duplicadas no serán contabilizadas.\nSe seleccionarán 3 ganadores (los 3 más votados en orden de votos)  y 1 suplente(el 4ª más votado).\nEstepark contactará con los padres/tutores de los ganadores a través del email o teléfono facilitado por los mismos en la parte trasera del dibujo participante.\nLos ganadores contarán con una semana natural para responder a Estepark y conocer cómo recoger sus premios. O contactar con Estepark en info@estepark.es. Si tras este periodo no han dado señales de vida\, Estepark entregará el premio al suplente.\nLos nombres de los ganadores se comunicarán en la web y redes sociales de Estepark.\nLos premios no se podrán cambiar por otros o por cantidades en metálico.\nEstepark se reserva el derecho de declarar nulo al ganador si este incumple cualquier norma del juego.\nEstepark se reserva el derecho de cancelar o aplazar el sorteo por causas de fuerza mayor.\n\n  \nODS: CIUDADES Y COMUNIDADES SOSTENIBLES
URL:https://estepark.es/evento/iv-concurso-dibujo-infantil-magdalena-estepark/
CATEGORIES:Infantil,Sorteo/Concurso
ATTACH;FMTTYPE=image/jpeg:https://estepark.es/wp-content/uploads/2025/01/slide-estepark-dibujo-web-scaled.jpg
END:VEVENT
END:VCALENDAR