BEGIN:VCALENDAR
VERSION:2.0
PRODID:-//Estepark, Parque Comercial y de Ocio en Castellón - ECPv6.15.18//NONSGML v1.0//EN
CALSCALE:GREGORIAN
METHOD:PUBLISH
X-WR-CALNAME:Estepark, Parque Comercial y de Ocio en Castellón
X-ORIGINAL-URL:https://estepark.es
X-WR-CALDESC:Eventos para Estepark, Parque Comercial y de Ocio en Castellón
REFRESH-INTERVAL;VALUE=DURATION:PT1H
X-Robots-Tag:noindex
X-PUBLISHED-TTL:PT1H
BEGIN:VTIMEZONE
TZID:Europe/Madrid
BEGIN:DAYLIGHT
TZOFFSETFROM:+0100
TZOFFSETTO:+0200
TZNAME:CEST
DTSTART:20230326T010000
END:DAYLIGHT
BEGIN:STANDARD
TZOFFSETFROM:+0200
TZOFFSETTO:+0100
TZNAME:CET
DTSTART:20231029T010000
END:STANDARD
BEGIN:DAYLIGHT
TZOFFSETFROM:+0100
TZOFFSETTO:+0200
TZNAME:CEST
DTSTART:20240331T010000
END:DAYLIGHT
BEGIN:STANDARD
TZOFFSETFROM:+0200
TZOFFSETTO:+0100
TZNAME:CET
DTSTART:20241027T010000
END:STANDARD
BEGIN:DAYLIGHT
TZOFFSETFROM:+0100
TZOFFSETTO:+0200
TZNAME:CEST
DTSTART:20250330T010000
END:DAYLIGHT
BEGIN:STANDARD
TZOFFSETFROM:+0200
TZOFFSETTO:+0100
TZNAME:CET
DTSTART:20251026T010000
END:STANDARD
BEGIN:DAYLIGHT
TZOFFSETFROM:+0100
TZOFFSETTO:+0200
TZNAME:CEST
DTSTART:20260329T010000
END:DAYLIGHT
BEGIN:STANDARD
TZOFFSETFROM:+0200
TZOFFSETTO:+0100
TZNAME:CET
DTSTART:20261025T010000
END:STANDARD
END:VTIMEZONE
BEGIN:VEVENT
DTSTART;TZID=Europe/Madrid:20241203T080000
DTEND;TZID=Europe/Madrid:20241203T170000
DTSTAMP:20260423T152100
CREATED:20241203T105452Z
LAST-MODIFIED:20241224T101339Z
UID:20456-1733212800-1733245200@estepark.es
SUMMARY:¡Todas las actividades de NAVIDAD 2024 en Estepark!
DESCRIPTION: \n¡Tu Navidad más especial empieza YA en Estepark!\n\n¡Vive momentos mágicos en las actividades que te hemos preparado! Karts y Bumpers en la Plaza\, Festival de Villancicos\, Mini-markets\, clases navideñas de zumba\, visitas de Papá Noel y los Reyes Magos…\n\nAdemás\, sigue disfrutando de todo el ocio\, gastronomía\, establecimientos de Hogar\, regalos y cuidado personal ¡y mucho\, mucho más en Estepark!\n\nConsulta días y horarios en el programa y estate atento a nuestras redes sociales para más sorpresas como la celebración del día del jersey feo\, las fiestas rn los establecimientos…\n\n¡GUARDA Y COMPARTE EL CARTEL CON TODO EL PROGRAMA!\n\nMINI MARKET \nTardes de mini market en la Plaza de Estepark. Encuentra tus regalos más personalizados\, conoce a los artesanos de Castellón\, acércate a las pérgolas de madera junto a la cafetería el Salero el 6 y 7 de diciembre\, 20\, 21\, 22 y 27. \nKARTS ELÉCTRICOS Y BUMPERS \nNuestras dos actividades en la Plaza de Estepark que estarán disponibles cada día a partir del 14 de diciembre. \nKarts individuales o dobles\, varios niveles de potencia\, circuito al aire libre. \nCoches Bumpers para chocarte con todos. \n¡Ven a jugar sea cual sea tu edad! \nCLASES DE ZUMBA  \nClases libres para todos los niveles con entrenadores TOP de la provincia. ¡Te lo pasarás muy bien conocerás gente y empezarás tus fines de semana con toda la energía. \n27 de diciembre a las 18:30h y 28 de diciembre a las 12h\, en la planta 1 de Estepark. \nlll FESTIVAL DE VILLANCICOS \nVen a cantar\, a pasar una tarde navideña y a escuchar a los niños de los coles que se han preparado con ilusión las canciones. Te esperamos en la planta 1. \nESPACIOS SOLIDARIOS \nLas asociaciones de Castellón se reúnen en nuestra Plaza para conocerte\, contarte sus proyectos\, ofrecerte regalitos solidarios y pedir tu ayuda en sus iniciativas. Acércate a la zona de las pérgolas de madera. \nPAPÁ NOEL Y LOS REYES MAGOS RECOGEN TU CARTA \nSanta Claus y Gaspar estarán en la planta 1 de Estepark\, junto al árbol de Navidad\, recogiendo la cartas (o entregándola para que los niños la escriban) y hablando con los peques. A lo mejor te los encuentras en alguno de nuestros establecimientos. \nPAPÁ NOEL \nlunes 23 – de 17h a 21h \nmartes 24 – de 12h a 14h y de 15h a 17h \nREY MAGO \nsábado 28 – de 17h a 21h \ndomingo 29 – de 17h a 21h \nlunes 30 – de 17h a 21h \nmartes 31 – de 12h a 14h y de 15h a 17h \njueves 2 – de 17h a 21h \nviernes 3 – de 17h a 21h \nsábado 4 – de 17h a 21h \n 
URL:https://estepark.es/evento/todas-las-actividades-de-navidad-2024-en-estepark/
CATEGORIES:Actuaciones,Entretenimiento,Infantil
END:VEVENT
BEGIN:VEVENT
DTSTART;VALUE=DATE:20241211
DTEND;VALUE=DATE:20250210
DTSTAMP:20260423T152100
CREATED:20241211T170614Z
LAST-MODIFIED:20250206T105417Z
UID:20466-1733875200-1739145599@estepark.es
SUMMARY:GANADORES FIESTA PEQUERADIO ENCENDIDO DE LUCES EN ESTEPARK
DESCRIPTION:¡Venir a Estepark tiene premio! \nEstos son los ganadores y los premios de los invitados a la Fiesta de Pequeradio del Encendido de Luces de Navidad en Estepark. \n  \n¿Qué debes hacer para saber si tienes premio? \nSi viniste a la fiesta del 30 de noviembre y guardaste tu invitación\, como te indicamos\, puedes revisar si estás en la lista de ganadores. \nComprueba si el número de referencia de tu invitación coincide con los números del listado. \nLISTADO DE PREMIADOS: Sortea2 – Resultados del sorteo “Regalos Fiesta Encendido de Luces Pequeradio en Estepark” del 11/12/2024 \n  \nPACK CON Todojuguete antifaz para Carnaval + Vinnela Park 10% descuento + llaollao Estepark 10% descuento + Pista de hielo Fun Ice entrada 2×1 + Día gratis de entrenamiento en Keasyfit Estepark \n\nPuesto 1: 2X05-GLK9-6CC\nPuesto 2: 2X0D-G9LP-SMG\nPuesto 3: 2X08-D8C4-JPL\nPuesto 4: 2X07-4VM5-B1T\nPuesto 5: 2X0M-P5XD-P2R\nPuesto 6: 2X0D-GJJC-1BM\nPuesto 7: 2X0F-G2TB-7QQ\nPuesto 8: 2X07-74P5-GVT\nPuesto 9: 2X05-CMRW-0XZ\nPuesto 10: 2X08-MW8Z-S7K\nPuesto 11: 2X15-3DQV-MFH\nPuesto 12: 2X0N-37H2-JLZ\nPuesto 13: 2X0H-P62Q-2J6\nPuesto 14: 2X0C-D092-W01\nPuesto 15: 2X08-GVB1-D9F\nPuesto 16: 2X0C-WM9Z-0NK\nPuesto 17: 2X15-4SNC-MW5\nPuesto 18: 2X06-VTSN-B54\nPuesto 19: 2X13-5NV1-GHB\nPuesto 20: 2X0J-86GT-7CS\nPuesto 21: 2X07-9FXZ-KH3\nPuesto 22: 2X05-BKSR-G6X\nPuesto 23: 2X05-LJS5-682\nPuesto 24: 2X05-KKHG-H26\n\n\nPuesto 25: 2X05-HJD9-WR7\nPuesto 26: 2X05-F47X-K6M\nPuesto 27: 2X08-1KFT-M72\nPuesto 28: 2X0B-R3QM-R54\nPuesto 29: 2X09-NP42-96F\nPuesto 30: 2X05-DFXR-3GB\nPuesto 31: 2X05-KQ5C-L88\nPuesto 32: 2X09-13B2-3XK\n\n  \nPACK CON Regalo sorpresa de Leroy Merlin + Todojuguete antifaz para Carnaval + Vinnela Park 10% descuento + llaollao 10% descuento + Pista de hielo Fun Ice entrada 2×1 + El Salero Estepark croissant gratis + Kidom o The Jumper 10% descuento a elegir. \n\nPuesto 33: 2X0C-SJ5C-8GR\nPuesto 34: 2X09-2FMQ-P6Z\nPuesto 35: 2X05-H4SP-7G7\nPuesto 36: 2X0G-JXZ3-67T\nPuesto 37: 2X08-DKTB-2B9\nPuesto 38: 2X0D-BFB5-78R\nPuesto 39: 2X0F-3FDL-M14\nPuesto 40: 2X0C-BMJ5-929\nPuesto 41: 2X0F-7SH2-GFX\nPuesto 42: 2X0L-ZPWZ-5JR\nPuesto 43: 2X05-B5V3-GSV\nPuesto 44: 2X07-BFB0-D7Q\nPuesto 45: 2X0C-583G-7W3\nPuesto 46: 2X08-D465-MD4\nPuesto 47: 2X05-FDFG-H1G\nPuesto 48: 2X06-W4QJ-VZT\nPuesto 49: 2X08-3KZV-988\nPuesto 50: 2X15-8FZ5-786\nPuesto 51: 2X0C-B11H-Z0B\nPuesto 52: 2X0D-HP9K-K4F\n\n  \nPACK CON Menú hamburguesa doble KFC Estepark gratis + Todojuguete antifaz para Carnaval + Vinnela Park 10% descuento + llaollao 10% descuento + Pista de hielo Fun Ice entrada 2×1 + KeasyFit Estepark 1 díade entrenamiento gratis + El Salero Estepark croissant gratis. \n\nPuesto 53: 2X0F-XDQK-9F3\nPuesto 54: 2X0Z-4BRX-492\n\n  \nSUPLENTES \n\nPuesto 55: 2X05-H8BD-1XR\nPuesto 56: 2X0D-N4XN-L9T\nPuesto 57: 2X0K-3JLH-JRJ\nPuesto 58: 2X09-CFD7-8ZL\n\n  \n¿Cómo puedes recoger tus premios? \nPuedes pasar por las oficinas de Estepark a partir del jueves 9 de enero de 2025 y hasta el 20 del mismo mes\, de lunes a viernes y de 9:30h a 14h. \nSi no has venido a recogerlo tu premio pasará a uno de los suplentes\, que podrá recogerlo desde el 21 al 26 de enero. \nLas oficinas se encuentran en la planta 1\, llamando al timbre de la puerta izquierda que encontrarás al final del pasillo que hay junto a 100 Montaditos. \n¡Trae tu invitación en tu móvil o impresa! \n  \n¿Qué validez tienen los premios y cómo se utilizan? \nEn las oficinas te entregaremos todos tus regalos: premios y bonos. Los bonos para disfrutar en cada establecimiento podrás utilizarlos desde que los recojas hasta el 9 de febrero de 2025 mostrando el bono en cada local de Estepark. \n  \nCONDICIONES \nPremios en establecimientos de Estepark: \n\n10% en llaollao Estepark (para consumir desde el 15 de enero hasta el 9 de febrero de 2025)\nKFC: 2 menús para dos personas con hamburguesa mediana a elegir (para consumir desde el 15 de enero hasta el 9 de febrero de 2025)\nEl Salero: Croissants con tu consumición a partir de 1\,5€ (desde el 15 de enero hasta el 9 de febrero de 2025)\nKidôm o The Jumper: 10% en la entrada\, excepto restauración y calcetines. (para consumir desde el 15 de enero hasta el 9 de febrero de 2025)\nFun Ice: entradas 2×1 a la pista de hielo de Estepark. (Consumir desde el 15 de enero hasta el 9 de febrero de 2025)\nVinnela Park en Estepark: 10% descuento en el menú de lunes a domingo (a consumir desde el 15 de enero hasta el 9 de febrero de 2025)\nKeasyfit: bonos de un día de fitness en Keasyfit Estepark (a consumir desde el 15 de enero hasta el 9 de febrero de 2025)\n\nLos participantes deberán cumplir las condiciones de este artículo. \nEl sorteo se ha realizado aleatoriamente a través del sistema SORTEA2. \nEl premio se recogerá en Estepark o se disfrutará en los establecimientos estipulados. \n  \nRESPONSABILIDAD DE LA EMPRESA ORGANIZADORA \nEn el caso de que el promotor o cualquier entidad que esté ligada profesionalmente al presente concurso\, detecte cualquier conducta fraudulenta de alguno de los participantes\, lo podrán excluir de su participación en el presente sorteo. \nEl promotor se reserva el derecho de acortar\, prorrogar\, modificar o cancelar este concurso si concurrieran circunstancias excepcionales que impidieran su realización\, comunicando dichas circunstancias de manera que se evite cualquier perjuicio para los participantes en la misma. \nEl promotor del concurso no será responsable de los retrasos\, pérdidas o deterioros por causas que no le sean imputables. \nEl premio no puede modificarse por otro ni ser solicitado en metálico.
URL:https://estepark.es/evento/ganadores-fiesta-pequeradio-encendido-de-luces-en-estepark/
CATEGORIES:Sorteo/Concurso
ATTACH;FMTTYPE=image/jpeg:https://estepark.es/wp-content/uploads/2024/12/SORTEO-PEQUERADIO-ESTEPARK.jpg
END:VEVENT
BEGIN:VEVENT
DTSTART;TZID=Europe/Madrid:20241212T080000
DTEND;TZID=Europe/Madrid:20241220T200000
DTSTAMP:20260423T152100
CREATED:20241212T150947Z
LAST-MODIFIED:20241216T162714Z
UID:20473-1733990400-1734724800@estepark.es
SUMMARY:III Festival de Villancicos Estepark
DESCRIPTION:III Festival de Villancicos en Estepark los días 12 y 19 de diciembre. \nSube a la planta 1 a las 18:30h para cantar y escuchar las mejores canciones de Navidad interpretadas por los coles de Castellón. \n¿Has participado como cantante este año? Pues estos son los premios que puedes llevarte si tienes suerte. \nPremios: \n-Clases de pádel en Tennis Drive. \n-10% en llaollao Estepark (para consumir desde diciembre 2024 hasta el 9 de febrero de 2025) \n-Fun Ice: entradas 2×1 a la pista de hielo de Estepark. (para consumir desde diciembre 2024 hasta el 9 de febrero de 2025) \n-Vinnela Park en Estepark: 10% descuento en el menú de lunes a domingo (para consumir desde diciembre 2024 hasta el 9 de febrero de 2025) \n-Entradas The Jumper: saltos\, menú\, realidad virtual… \n-Entradas a Kidôm: aventura\, zona Five\, zona Place… \n-Regalito sorpresa de Gifi. \n-Antifaz para fin de año de Todojuguete. \n-Vinnela Park. 10% de descuento en el menú del día\, de lunes a domingo en su restaurante de Estepark. \n-Flexos o lámparas fantasma de Leroy Merlin. \n  \nEl premio se recogerá en Estepark o se disfrutará en los establecimientos estipulados. \nRESPONSABILIDAD DE LA EMPRESA ORGANIZADORA \nEn el caso de que el promotor o cualquier entidad que esté ligada profesionalmente al presente sorteo\, detecte cualquier conducta fraudulenta de alguno de los participantes\, lo podrán excluir de su participación en el presente sorteo. \nEl promotor se reserva el derecho de acortar\, prorrogar\, modificar o cancelar este concurso si concurrieran circunstancias excepcionales que impidieran su realización\, comunicando dichas circunstancias de manera que se evite cualquier perjuicio para los participantes en la misma. \nEl promotor del concurso no será responsable de los retrasos\, pérdidas o deterioros por causas que no le sean imputables. \nEl premio no puede modificarse por otro ni ser solicitado en metálico.
URL:https://estepark.es/evento/iii-festival-de-villancicos-estepark/
CATEGORIES:Actuaciones,Entretenimiento,Sorteo/Concurso
ATTACH;FMTTYPE=image/jpeg:https://estepark.es/wp-content/uploads/2024/12/469864743_1106976074769185_8558856604989911446_n.jpg
END:VEVENT
BEGIN:VEVENT
DTSTART;VALUE=DATE:20241216
DTEND;VALUE=DATE:20241223
DTSTAMP:20260423T152100
CREATED:20241216T162015Z
LAST-MODIFIED:20241216T162015Z
UID:20505-1734307200-1734911999@estepark.es
SUMMARY:UGLY SWEATER DAY: muestra tu jersey feo y llévate premios.
DESCRIPTION:El 20 de diciembre se hace un guiño a la creatividad\, la diversión y el espíritu navideño a través de los jerséis más originales (¡y feos!).\n\n \n¡Vamos a celebrarlo en Estepark! Ven con tu jersey de Navidad y hazte fotos.\n\n\n¿Quieres ganar PACKS de regalitos y descuentos de Todojuguete\, Vinnela-Resto\, Fun Ice\, Kidom\, The Jumper\, llaollao\, Keasyfit España y #ElSalero? ¡Sin sorteos!\n\n\n \n\n\n1.  Ven a Estepark hasta el 22 de diciembre.\n\n\n2.  Hazte una foto con tu jersey feo (o de Navidad).\n\n\n3. Súbela a tu Facebook\, Instagram o Twitter etiquetando a Estepark. (Nuestras cuentas son : Facebook @EsteparkCastellon. Instagram @esteparkcastellon. Twitter @EsteparkCs)\n\n\n \n\n\nEntregaremos los premios a todos nuestros seguidores en orden de publicación y hasta fin de existencias. SIN SORTEOS.\n\n\n \n\n\nPREMIOS\n\n\nA las fotos de la 1ª a la 19ª publicadas de acuerdo a condiciones .\nPACK CON Regalo sorpresa de Leroy Merlin + Todojuguete antifaz para Carnaval + Vinnela Park 10% descuento + llaollao 10% descuento + Pista de hielo Fun Ice entrada 2×1 + El Salero Estepark croissant gratis + Kidom o The Jumper 10% descuento a elegir.\n\n\n\nA las fotos de la 20ª a la 26ª publicadas de acuerdo a condiciones .\n\nPACK CON Todojuguete antifaz para Carnaval + Vinnela Park 10% descuento + llaollao Estepark 10% descuento + Pista de hielo Fun Ice entrada 2×1 + Día gratis de entrenamiento en Keasyfit Estepark\n\n\n\nA las fotos de la 27ª a la 30ª publicadas de acuerdo a condiciones .\nBono de entrenamiento de una semana en Keasyfit Estepark.\n\n\n\n¿Cómo puedes recoger tus premios? \nTe notificaremos en la red social en la que hayas participado que tienes premio y también lo publicaremos en las redes sociales de Estepark. \nPuedes pasar por las oficinas de Estepark a partir del jueves 9 de enero de 2025 y hasta el 20 del mismo mes\, de lunes a viernes y de 9:30h a 14h a recoger los premios. \nLas oficinas se encuentran en la planta 1\, llamando al timbre de la puerta izquierda que encontrarás al final del pasillo que hay junto a 100 Montaditos. \n¿Qué validez tienen los premios y cómo se utilizan? \nEn las oficinas te entregaremos todos tus regalos: premios y bonos. Los bonos para disfrutar en cada establecimiento podrás utilizarlos desde que los recojas hasta el 9 de febrero de 2025 mostrando el bono en cada local de Estepark. \n  \nCONDICIONES \nPremios en establecimientos de Estepark: \n\n10% en llaollao Estepark (para consumir desde el 15 de enero hasta el 9 de febrero de 2025)\nKFC: 2 menús para dos personas con hamburguesa mediana a elegir (para consumir desde el 15 de enero hasta el 9 de febrero de 2025)\nEl Salero: Croissants con tu consumición a partir de 1\,5€ (desde el 15 de enero hasta el 9 de febrero de 2025)\nKidôm o The Jumper: 10% en la entrada\, excepto restauración y calcetines. (para consumir desde el 15 de enero hasta el 9 de febrero de 2025)\nFun Ice: entradas 2×1 a la pista de hielo de Estepark. (Consumir desde el 15 de enero hasta el 9 de febrero de 2025)\nVinnela Park en Estepark: 10% descuento en el menú de lunes a domingo (a consumir desde el 15 de enero hasta el 9 de febrero de 2025)\nKeasyfit: bonos de un día de fitness en Keasyfit Estepark (a consumir desde el 15 de enero hasta el 9 de febrero de 2025)\n\nLos participantes deberán cumplir las condiciones de este artículo. \nEl premio se recogerá en Estepark o se disfrutará en los establecimientos estipulados. \n  \nRESPONSABILIDAD DE LA EMPRESA ORGANIZADORA \nEn el caso de que el promotor o cualquier entidad que esté ligada profesionalmente al presente concurso\, detecte cualquier conducta fraudulenta de alguno de los participantes\, lo podrán excluir de su participación en el presente sorteo. \nEl promotor se reserva el derecho de acortar\, prorrogar\, modificar o cancelar este concurso si concurrieran circunstancias excepcionales que impidieran su realización\, comunicando dichas circunstancias de manera que se evite cualquier perjuicio para los participantes en la misma. \nEl promotor del concurso no será responsable de los retrasos\, pérdidas o deterioros por causas que no le sean imputables. \nEl premio no puede modificarse por otro ni ser solicitado en metálico.
URL:https://estepark.es/evento/ugly-sweater-day-muestra-tu-jersey-feo-y-llevate-premios/
CATEGORIES:Sorteo/Concurso
ATTACH;FMTTYPE=image/jpeg:https://estepark.es/wp-content/uploads/2024/12/slide-ugly-sueter-scaled.jpg
END:VEVENT
END:VCALENDAR