BEGIN:VCALENDAR
VERSION:2.0
PRODID:-//Estepark, Parque Comercial y de Ocio en Castellón - ECPv6.15.18//NONSGML v1.0//EN
CALSCALE:GREGORIAN
METHOD:PUBLISH
X-ORIGINAL-URL:https://estepark.es
X-WR-CALDESC:Eventos para Estepark, Parque Comercial y de Ocio en Castellón
REFRESH-INTERVAL;VALUE=DURATION:PT1H
X-Robots-Tag:noindex
X-PUBLISHED-TTL:PT1H
BEGIN:VTIMEZONE
TZID:Europe/Madrid
BEGIN:DAYLIGHT
TZOFFSETFROM:+0100
TZOFFSETTO:+0200
TZNAME:CEST
DTSTART:20250330T010000
END:DAYLIGHT
BEGIN:STANDARD
TZOFFSETFROM:+0200
TZOFFSETTO:+0100
TZNAME:CET
DTSTART:20251026T010000
END:STANDARD
BEGIN:DAYLIGHT
TZOFFSETFROM:+0100
TZOFFSETTO:+0200
TZNAME:CEST
DTSTART:20260329T010000
END:DAYLIGHT
BEGIN:STANDARD
TZOFFSETFROM:+0200
TZOFFSETTO:+0100
TZNAME:CET
DTSTART:20261025T010000
END:STANDARD
BEGIN:DAYLIGHT
TZOFFSETFROM:+0100
TZOFFSETTO:+0200
TZNAME:CEST
DTSTART:20270328T010000
END:DAYLIGHT
BEGIN:STANDARD
TZOFFSETFROM:+0200
TZOFFSETTO:+0100
TZNAME:CET
DTSTART:20271031T010000
END:STANDARD
END:VTIMEZONE
BEGIN:VEVENT
DTSTART;TZID=Europe/Madrid:20260306T170000
DTEND;TZID=Europe/Madrid:20260306T200000
DTSTAMP:20260421T171602
CREATED:20260305T111310Z
LAST-MODIFIED:20260305T111310Z
UID:21961-1772816400-1772827200@estepark.es
SUMMARY:¡RECOGE TU PACK MAGDALENERO 2026 EN ESTEPARK!
DESCRIPTION:¿Eres castelloner@ y esteparker? ¡Estepark y sus grandes marcas regalan a sus clientes 100 packs magdaleneros! \n  \n📍 ¿Cómo conseguirlo? (¡Toma nota!)\nApunta bien la fecha porque esto vuela más rápido que los cohetes: \n\n\nDÍA: 6 de marzo. \n\n\nHORA: A partir de las 17:00h. \n\n\nDÓNDE: En llaollao\, Vertigo Bowling Park y Keasyfit. \n\n\nREQUISITO: Presenta un ticket de compra de esta semana de 10€ o más de cualquier establecimiento de Estepark. \n\n\n\n⚠️ ¡TEN EN CUENTA!\n\n\nPara mayores de 18 años. \n\n\nUno por persona: ¡Sed buenos compañeros de colla! \n\n\n¡Corre! Se reparten por orden de llegada y hasta que se acaben. Si pestañeas\, te quedas sin. \n\n\n🎒 ¿Qué lleva el Pack Magdalenero Estepark?\n\n\nSaquito exclusivo Estepark (ideal para llevar todas las fiestas). \n\n\nCinta y pulsera oficial (el uniforme reglamentario). \n\n\nPrograma de fiestas (para que no te pierdas ni un «vítol»). \n\nLlaveros de Todojuguete.\n\nBonos descuento de Keasyfit\, Vertigo Bowling Park o llaollao. \n\n\n¡Vente a merendar\, a comprar o a echar una partida de bolos y llévate el pack! 🥳💥 \n  \n  \n 
URL:https://estepark.es/evento/recoge-tu-pack-magdalenero-2026-en-estepark/
CATEGORIES:Sorteo/Concurso
END:VEVENT
BEGIN:VEVENT
DTSTART;TZID=Europe/Madrid:20260320T163000
DTEND;TZID=Europe/Madrid:20260320T203000
DTSTAMP:20260421T171602
CREATED:20260227T100857Z
LAST-MODIFIED:20260227T100857Z
UID:21957-1774024200-1774038600@estepark.es
SUMMARY:Donación de sangre
DESCRIPTION:
URL:https://estepark.es/evento/donacion-de-sangre-4/
CATEGORIES:Solidario
ATTACH;FMTTYPE=image/jpeg:https://estepark.es/wp-content/uploads/2026/02/donacion-sangre-20-MARZ.jpg
END:VEVENT
BEGIN:VEVENT
DTSTART;TZID=Europe/Madrid:20260403T170000
DTEND;TZID=Europe/Madrid:20260405T200000
DTSTAMP:20260421T171602
CREATED:20260326T100120Z
LAST-MODIFIED:20260327T171644Z
UID:21983-1775235600-1775419200@estepark.es
SUMMARY:🪄🔬 ¡Ciencia o Magia! Ven al "Laboratorio del Asombro" estas Pascuas en Estepark
DESCRIPTION:¿Es magia o es ciencia? ¡Esa es la pregunta que los más pequeños de la casa tendrán que resolver! Estas vacaciones de Pascua\, Estepark se convierte en un escenario de descubrimiento con una actividad diseñada para despertar la curiosidad y la imaginación: el taller «El Laboratorio del Asombro». \nSi buscas un plan diferente\, educativo y\, sobre todo\, muy divertido para el próximo viernes 3 de abril\, ¡tenemos una cita inolvidable! \nUn taller donde los experimentos cobran vida \nEn «El Laboratorio del Asombro»\, no sois simples espectadores; os convertís en protagonistas. A través de actividades dinámicas\, os transformaréis en científicos y magos\, descubriendo que el mundo que es mucho más fascinante de lo que imaginabais. \n¿Qué aprendereis en esta aventura? Este taller está diseñado para potenciar cuatro pilares fundamentales: \n\nPensamiento científico: Fomentamos la curiosidad y la observación. Los participantes aprenderán a hacerse preguntas sobre el porqué de las cosas mientras experimentan en directo.\nCreatividad activa: Cada reto invita a imaginar y encontrar soluciones propias de forma libre\, original y expresiva.\nTrabajo en equipo: ¡La unión hace la fuerza! Los participantes colaborarán\, compartirán materiales y celebrarán juntos cada resultado exitoso. Es aprendizaje social en estado puro.\nConfianza y asombro: Al ver la ciencia como algo mágico\, se refuerza la autoestima y el gusto por aprender\, dejando una huella positiva y duradera en su desarrollo.\n\n Datos clave del evento\nNo hace falta que saques entradas ni que te registres en ninguna web. Queremos que disfrutes de la tarde con total libertad. \n\nFecha: Viernes\, 3 de abril de 2026.\nHora: A partir de las 17:00h.\nLugar: Planta 1 de Estepark (junto a 100 Montaditos).\nEntrada: Gratuita y sin inscripción previa.\n\n\n__________\nMÁS MAGIA EN ESTEPARK\nRecuerda que el «Laboratorio del Asombro» es solo el comienzo. Durante el sábado 4 y el domingo 5 de abril\, tendrás más diversión en Estepark.\n\nEncontrarás a nuestro mago Emilio por las tardes haciendo magia por todo el Parque. Te lo puedes encontrar en cualquier espacio y en establecimientos como Kidôm\, OCine Premium\, El Salero\, Vertigo Bowling Park\, The Jumper\, 100 Montaditos\, los Karts\, llaollao…\n\n¡Acércate cuando lo veas!\n\n\n__________\n\n\nTODO ABIERTO\n\nAdemás de nuestros locales de ocio que están abiertos para ti: Vertigo Bowling Park\, Kidom\, Ocine\, The Jumper\, los Karts de la Plaza\, 100 Montaditos\, Vinnela\, KFC\, el Salero\, llaollao…\n\nVIERNES 3\, SÁBADO 4 Y DOMINGO 5 DE ABRIL. Todo Abierto en Estepark\nLUNES 6 DE ABRIL. Abierto Ocio y Restauración\n\n*ODS de Estepark en Abril: Igualdad.
URL:https://estepark.es/evento/%f0%9f%aa%84%f0%9f%94%ac-ciencia-o-magia-ven-al-laboratorio-del-asombro-estas-pascuas-en-estepark/
CATEGORIES:Entretenimiento,Infantil,Talleres
END:VEVENT
BEGIN:VEVENT
DTSTART;TZID=Europe/Madrid:20260418T100000
DTEND;TZID=Europe/Madrid:20260418T200000
DTSTAMP:20260421T171602
CREATED:20260407T092250Z
LAST-MODIFIED:20260407T092250Z
UID:22057-1776506400-1776542400@estepark.es
SUMMARY:Baile y Feria de Libros en el Día por el Parkinson en Estepark
DESCRIPTION:En Estepark creemos en el poder de la comunidad para transformar realidades y\, por ello\, este mes de abril unimos fuerzas con la Asociación de Párkinson de Castellón para dar visibilidad a una enfermedad que afecta a miles de personas. \nEl 11 de abril se conmemora el Día Internacional del Párkinson para concienciar sobre esta enfermedad neurodegenerativa. \n🗓️ 18 de Abril: Día por el Parkison en Estepark\n📚 Feria de Libros de Ocasión\nDurante toda la jornada\, las pérgolas de la Plaza Estepark se convertirán en un punto de encuentro para los amantes de la lectura. Podrás adquirir libros de segunda mano en la feria solidaria. \n💃 ¡Muévete por una buena causa a las 11h y a las 19h!\nEn la Planta 1\, la música y el deporte serán los protagonistas con 2 sesiones de baile a las que estás invitado. El donativo para participar es de solo 5€ solidarios. \n\n\n11:00h – Zumdance y Rumble: Una sesión llena de ritmo y fuerza a cargo de la Ana Mª Adsuara. \n\n\n19:00h – Masterclass de Zumba: Cerramos la jornada por todo lo alto con la energía de Yoha. \n\n\nTodo lo recaudado durante las actividades de este día irá destinado íntegramente a la Asociación de Párkinson de Castellón para apoyar sus terapias y servicios de mejora de calidad de vida. \n\n🥘 Apoyo a la Paella Solidaria (24 de abril)\nAdemás de las actividades en nuestras instalaciones\, Estepark también colabora activamente con la Paella Solidaria organizada por la asociación el 24 de abril. \n\nLa Asociación de Parkinson de Castellón\, creada por personas con la enfermedad y sus familiare\, constituye un espacio donde se imparten terapias rehabilitadoras y se crea un entorno seguro para compartir información\, conocer la enfermedad y mejorar la calidad de vida tanto del enfermo como de su entorno familiar.»
URL:https://estepark.es/evento/baile-y-feria-de-libros-en-el-dia-por-el-parkinson-en-estepark/
ATTACH;FMTTYPE=image/jpeg:https://estepark.es/wp-content/uploads/2026/04/parkinson-web-estepark.jpg
END:VEVENT
BEGIN:VEVENT
DTSTART;TZID=Europe/Madrid:20260430T163000
DTEND;TZID=Europe/Madrid:20260430T203000
DTSTAMP:20260421T171602
CREATED:20260407T085320Z
LAST-MODIFIED:20260407T085320Z
UID:22055-1777566600-1777581000@estepark.es
SUMMARY:Donación de sangre
DESCRIPTION:Colabora y dona sangre al centro de Transfusión de Sangre de Castellón\, de 16:30h a 20:30h\, el 30 de abril\, en la SALA MULTIFUNCIONAL de ESTEPARK. \n*Planta 1 al final del pasillo junto a 100 Montaditos.
URL:https://estepark.es/evento/donacion-de-sangre-5/
CATEGORIES:Solidario
END:VEVENT
END:VCALENDAR